BEGIN:VCALENDAR
VERSION:2.0
PRODID:-//Indiana Radiological Society - ECPv6.15.20//NONSGML v1.0//EN
CALSCALE:GREGORIAN
METHOD:PUBLISH
X-ORIGINAL-URL:https://inrad.org
X-WR-CALDESC:Events for Indiana Radiological Society
REFRESH-INTERVAL;VALUE=DURATION:PT1H
X-Robots-Tag:noindex
X-PUBLISHED-TTL:PT1H
BEGIN:VTIMEZONE
TZID:UTC
BEGIN:STANDARD
TZOFFSETFROM:+0000
TZOFFSETTO:+0000
TZNAME:UTC
DTSTART:20250101T000000
END:STANDARD
END:VTIMEZONE
BEGIN:VEVENT
DTSTART;TZID=UTC:20260516T100000
DTEND;TZID=UTC:20260516T173000
DTSTAMP:20260424T110154
CREATED:20260127T184441Z
LAST-MODIFIED:20260416T124444Z
UID:5413-1778925600-1778952600@inrad.org
SUMMARY:IRS Spring Meeting 2026
DESCRIPTION:Join us for the annual spring meeting\, open to all IRS members. \nSpeakers:\n \n\n\nDana Smetherman\, MD\, MPH\, MBA\, FACR\, FSBI \n\n\nRichard Gunderman\, Md\, PhD\, FACR \n\n\nPlease join us for a day of learning and fellowship in a great environment. The event is 10 a.m. –  4 p.m.\, followed by a self-guided tour of the Hall and a cocktail reception at 5 p.m. Plus ones are invited.  \nLocation:  NCAA Hall of Champions.\nat White River State Park\n700 W Washington St.\nIndianapolis\, IN \nQuestions: Contact 317-261-2060. \nContinuing Medical Education:\nEducation Credits Will Be Provided: \n\n2 AMA PRA Category 1 Credits™ for Guest Speaker Sessions\n\n\nRegister Now\nPlease enable JavaScript in your browser to complete this form.Please enable JavaScript in your browser to complete this form.I WILL attend the Spring 2026 IRS Meeting *YesNo I WILL be bringing a plus one *YesNoName *FirstLastCity *Email *Phone *Profession *RadiologistRadiation OncologistMedical PhysicistTechnologistBusiness or Practice ManagerResident/FellowMedical StudentOther*If "other" profession\, please specifyPlease note any food allergiesSubmit
URL:https://inrad.org/event/irs-spring-meeting-2026/
LOCATION:NCAA Hall of Fame\, White River State Park\, 700 W Washington St.\, Indianapolis\, 46204\, United States
ATTACH;FMTTYPE=image/jpeg:https://inrad.org/wp-content/uploads/2026/01/NCAA-hall-of-champions.jpg
END:VEVENT
END:VCALENDAR